BEGIN:VCALENDAR
VERSION:2.0
PRODID:-//ChamberMaster//Event Calendar 2.0//EN
METHOD:PUBLISH
X-PUBLISHED-TTL:P1H
REFRESH-INTERVAL:P1H
CALSCALE:GREGORIAN
BEGIN:VTIMEZONE
TZID:America/Chicago
BEGIN:DAYLIGHT
RRULE:FREQ=YEARLY;BYMONTH=3;BYDAY=2SU
DTSTART:20070101T000000
TZOFFSETFROM:-0600
TZOFFSETTO:-0500
TZNAME:Central Daylight Time
END:DAYLIGHT
BEGIN:STANDARD
RRULE:FREQ=YEARLY;BYMONTH=11;BYDAY=1SU
DTSTART:20070101T000000
TZOFFSETFROM:-0500
TZOFFSETTO:-0600
TZNAME:Central Standard Time
END:STANDARD
END:VTIMEZONE
BEGIN:VEVENT
DTSTART;TZID=America/Chicago:20260521T113000
DTEND;TZID=America/Chicago:20260521T133000
X-MICROSOFT-CDO-ALLDAYEVENT:FALSE
SUMMARY:Missouri State Affairs Wrap-Up Luncheon
DESCRIPTION:The 2026 legislative session has concluded\, and significant decisions have been made that will impact Kansas City's business community. What passed? What failed? And what comes next?Join us to get the answers. The KC Chamber invites you to our annual Missouri Legislative Wrap-Up Luncheon for a comprehensive and candid look back at the session.Hear directly from Missouri legislators\, as they break down the key policies\, debate outcomes\, and lasting implications for Missouri.\nThis is your opportunity to:- Gain exclusive\, insider insights on the session's biggest decisions directly from the key players.- Connect with fellow business and policy leaders from across the region.- Understand the landscape and help shape the conversation on Missouri's future.\nWe look forward to seeing you there!
X-ALT-DESC;FMTTYPE=text/html:<!DOCTYPE html><html><head><title></title></head><body aria-disabled="false" data-gr-ext-installed="" data-new-gr-c-s-check-loaded="14.1134.0" data-new-gr-c-s-loaded="14.1134.0" spellcheck="false"><p style="margin-bottom:0in\;">The 2026 legislative session has concluded\, and significant decisions have been made that will impact Kansas City&rsquo\;s business community. What passed? What failed? And what comes next?</p><p style="margin-bottom:0in\;">Join us to get the answers. The KC Chamber invites you to our annual <strong fr-original-style="" style="font-weight: 700\;">Missouri Legislative Wrap-Up Luncheon</strong> for a comprehensive and candid look back at the session.</p><p style="margin-bottom:0in\;">Hear directly from Missouri legislators\, as they break down the key policies\, debate outcomes\, and lasting implications for Missouri.</p><p style="margin-bottom:0in\;"><br></p><p style="margin-bottom:0in\;"><span style="color: rgb(41\, 105\, 176)\;"><strong fr-original-style="" style="font-weight: 700\;">This is your opportunity to:</strong></span></p><p style="margin-bottom:0in\;"><strong fr-original-style="" style="font-weight: 700\;">- Gain exclusive\, insider insights on the session&rsquo\;s biggest decisions directly from the key players.</strong></p><p style="margin-bottom:0in\;"><strong fr-original-style="" style="font-weight: 700\;">- Connect with fellow business and policy leaders from across the region.</strong></p><p style="margin-bottom:0in\;"><strong fr-original-style="" style="font-weight: 700\;">- Understand the landscape and help shape the conversation on Missouri&rsquo\;s future.</strong></p><p style="margin-bottom:0in\;"><br></p><p style="margin-bottom:0in\;">We look forward to seeing you there!</p></body></html>
LOCATION:4740 Grand Ave Kansas City MO 64112
UID:e.4093.1306097
SEQUENCE:3
DTSTAMP:20260423T012501Z
URL:https://greaterkansascitychamberofcommerce.growthzoneapp.com/eventcalendar/Details/missouri-state-affairs-wrap-up-luncheon-1530199?sourceTypeId=Hub
END:VEVENT
END:VCALENDAR
