BEGIN:VCALENDAR
VERSION:2.0
PRODID:-//ChamberMaster//Event Calendar 2.0//EN
METHOD:PUBLISH
X-PUBLISHED-TTL:P1H
REFRESH-INTERVAL:P1H
CALSCALE:GREGORIAN
BEGIN:VTIMEZONE
TZID:America/Chicago
BEGIN:DAYLIGHT
RRULE:FREQ=YEARLY;BYMONTH=3;BYDAY=2SU
DTSTART:20070101T000000
TZOFFSETFROM:-0600
TZOFFSETTO:-0500
TZNAME:Central Daylight Time
END:DAYLIGHT
BEGIN:STANDARD
RRULE:FREQ=YEARLY;BYMONTH=11;BYDAY=1SU
DTSTART:20070101T000000
TZOFFSETFROM:-0500
TZOFFSETTO:-0600
TZNAME:Central Standard Time
END:STANDARD
END:VTIMEZONE
BEGIN:VEVENT
DTSTART;TZID=America/Chicago:20261029T110000
DTEND;TZID=America/Chicago:20261029T133000
X-MICROSOFT-CDO-ALLDAYEVENT:FALSE
SUMMARY:Missouri & Kansas Joint Legislative Agenda Luncheon
DESCRIPTION:Members of the KC Chamber's Missouri State Affairs and Kansas State Affairs Committees will discuss 2027 legislative priorities.
X-ALT-DESC;FMTTYPE=text/html:Members of the KC Chamber's Missouri State Affairs and Kansas State Affairs Committees will discuss 2027 legislative priorities.
LOCATION:Kansas City MO
UID:e.4093.1306137
SEQUENCE:3
DTSTAMP:20260423T012714Z
URL:https://greaterkansascitychamberofcommerce.growthzoneapp.com/eventcalendar/Details/missouri-kansas-joint-legislative-agenda-luncheon-1530248?sourceTypeId=Hub
END:VEVENT
END:VCALENDAR
