BEGIN:VCALENDAR
VERSION:2.0
PRODID:-//ChamberMaster//Event Calendar 2.0//EN
METHOD:PUBLISH
X-PUBLISHED-TTL:P1H
REFRESH-INTERVAL:P1H
CALSCALE:GREGORIAN
BEGIN:VTIMEZONE
TZID:America/Chicago
BEGIN:DAYLIGHT
RRULE:FREQ=YEARLY;BYMONTH=3;BYDAY=2SU
DTSTART:20070101T000000
TZOFFSETFROM:-0600
TZOFFSETTO:-0500
TZNAME:Central Daylight Time
END:DAYLIGHT
BEGIN:STANDARD
RRULE:FREQ=YEARLY;BYMONTH=11;BYDAY=1SU
DTSTART:20070101T000000
TZOFFSETFROM:-0500
TZOFFSETTO:-0600
TZNAME:Central Standard Time
END:STANDARD
END:VTIMEZONE
BEGIN:VEVENT
DTSTART;TZID=America/Chicago:20260527T113000
DTEND;TZID=America/Chicago:20260527T130000
X-MICROSOFT-CDO-ALLDAYEVENT:FALSE
SUMMARY:Community Connections: Let's Taco Bout It
DESCRIPTION:Please join us for a quarterly luncheon where presenters from all over the KC Metro highlight their organizations' services and resources to share with families.Lunch is provided! Please register so we know how many people to plan for.All are welcome!
X-ALT-DESC;FMTTYPE=text/html:<!DOCTYPE html><html><head><title></title></head><body aria-disabled="false"><p>Please join us for a quarterly luncheon where presenters from all over the KC Metro highlight their organizations&#39\; services and resources to share with families.</p><p>Lunch is provided! <strong fr-original-style="" style="font-weight: 700\;"><a fr-original-style="" href="https://www.wycohealth.com/get-involved#communityconnections" rel="noopener noreferrer" style="user-select: auto\;" target="_blank"><strong fr-original-style="" style="font-weight: 700\;">Please register</strong></a></strong> so we know how many people to plan for.</p><p>All are welcome!</p></body></html>
LOCATION:803 Armstrong Ave Kansas City KS 66101
UID:e.4093.1448520
SEQUENCE:3
DTSTAMP:20260423T012347Z
URL:https://greaterkansascitychamberofcommerce.growthzoneapp.com/eventcalendar/Details/community-connections-let-s-taco-bout-it-1715519?sourceTypeId=Hub
END:VEVENT
END:VCALENDAR
