BEGIN:VCALENDAR
VERSION:2.0
PRODID:-//ChamberMaster//Event Calendar 2.0//EN
METHOD:PUBLISH
X-PUBLISHED-TTL:P1H
REFRESH-INTERVAL:P1H
CALSCALE:GREGORIAN
BEGIN:VTIMEZONE
TZID:America/Chicago
BEGIN:DAYLIGHT
RRULE:FREQ=YEARLY;BYMONTH=3;BYDAY=2SU
DTSTART:20070101T000000
TZOFFSETFROM:-0600
TZOFFSETTO:-0500
TZNAME:Central Daylight Time
END:DAYLIGHT
BEGIN:STANDARD
RRULE:FREQ=YEARLY;BYMONTH=11;BYDAY=1SU
DTSTART:20070101T000000
TZOFFSETFROM:-0500
TZOFFSETTO:-0600
TZNAME:Central Standard Time
END:STANDARD
END:VTIMEZONE
BEGIN:VEVENT
DTSTART;TZID=America/Chicago:20260414T180000
DTEND;TZID=America/Chicago:20260414T203000
X-MICROSOFT-CDO-ALLDAYEVENT:FALSE
SUMMARY:Centurions | Wine Education 101 and Social
DESCRIPTION:This event is open to Active & Alumni (dues-paying) Centurions only.Join us on April 14 at 6pm for an exploration of wines at Kansas City's favorite bottle shop\, Lavada Wines! Bridgette\, owner and wine educator will guide us through a full varietal lineup tasting outside of the box options.Snacks and tastings included with your ticket. Space is limited\, sign up now!
X-ALT-DESC;FMTTYPE=text/html:<!DOCTYPE html><html><head><title></title></head><body aria-disabled="false"><p><strong fr-original-style="" style="font-weight: 700\;"><span style="color: rgb(184\, 49\, 47)\;">This event is open to Active &amp\; Alumni (dues-paying) Centurions only.</span></strong></p><p>Join us on April 14 at 6pm for an exploration of wines at Kansas City&#39\;s favorite bottle shop\, Lavada Wines! Bridgette\, owner and wine educator will guide us through a full varietal lineup tasting outside of the box options.</p><p>Snacks and tastings included with your ticket. Space is limited\, sign up now!</p></body></html>
LOCATION:7301 W 95th St. Overland Park KS 66212
UID:e.4093.1400151
SEQUENCE:3
DTSTAMP:20260422T220624Z
URL:https://greaterkansascitychamberofcommerce.growthzoneapp.com/eventcalendar/Details/centurions-wine-education-101-and-social-1654351?sourceTypeId=Hub
END:VEVENT
END:VCALENDAR
