BEGIN:VCALENDAR
VERSION:2.0
PRODID:-//ChamberMaster//Event Calendar 2.0//EN
METHOD:PUBLISH
X-PUBLISHED-TTL:P1H
REFRESH-INTERVAL:P1H
CALSCALE:GREGORIAN
BEGIN:VTIMEZONE
TZID:America/Chicago
BEGIN:DAYLIGHT
RRULE:FREQ=YEARLY;BYMONTH=3;BYDAY=2SU
DTSTART:20070101T000000
TZOFFSETFROM:-0600
TZOFFSETTO:-0500
TZNAME:Central Daylight Time
END:DAYLIGHT
BEGIN:STANDARD
RRULE:FREQ=YEARLY;BYMONTH=11;BYDAY=1SU
DTSTART:20070101T000000
TZOFFSETFROM:-0500
TZOFFSETTO:-0600
TZNAME:Central Standard Time
END:STANDARD
END:VTIMEZONE
BEGIN:VEVENT
DTSTART;TZID=America/Chicago:20260521T073000
DTEND;TZID=America/Chicago:20260521T090000
X-MICROSOFT-CDO-ALLDAYEVENT:FALSE
SUMMARY:Access to Cancer Care Conversation Series
DESCRIPTION:Excited to share the next installment of the Access to Cancer Care Conversation Series\, presented by McKesson\, as we bring together patients\, caregivers\, healthcare leaders\, and community voices for an important conversation about improving access to cancer prevention\, detection\, and care.We hope you will join our Moderator Aledia Evans\, MA\, from the American Cancer Society\, and panelist\, Angela Hailes from Genentech\, Chris Lewis from Oracle\, Greg Valdovino from the Greater Kansas City Chamber of Commerce\, and Andres Dominguez from the Health Forward Foundation. If you care about health equity\, access to care\, and community-driven solutions\, I hope you'll join us.Learn more and register here.
X-ALT-DESC;FMTTYPE=text/html:<!DOCTYPE html><html><head><title></title></head><body aria-disabled="false"><p>Excited to share the next installment of the Access to Cancer Care Conversation Series\, presented by McKesson\, as we bring together patients\, caregivers\, healthcare leaders\, and community voices for an important conversation about improving access to cancer prevention\, detection\, and care.</p><p>We hope you will join our Moderator Aledia Evans\, MA\, from the American Cancer Society\, and panelist\, Angela Hailes from Genentech\, Chris Lewis from Oracle\, Greg Valdovino from the Greater Kansas City Chamber of Commerce\, and Andres Dominguez from the Health Forward Foundation. If you care about health equity\, access to care\, and community-driven solutions\, I hope you&rsquo\;ll join us.</p><p><a fr-original-style="" href="https://forms.office.com/pages/responsepage.aspx?id=jHa7r4LWrUKPfnIC0GwLYeNmfhoHVpBAiVLUT1PNml5UM0EzM0VYTFZIR1VFU0QwSjk0ME5TWFRSRy4u&route=shorturl" rel="noopener noreferrer" style="user-select: auto\;" target="_blank"><strong fr-original-style="" style="font-weight: 700\;">Learn more and register here.</strong></a></p><p><br></p></body></html>
LOCATION:340 Southwest Blvd Kansas City MO 66103
UID:e.4093.1448592
SEQUENCE:3
DTSTAMP:20260423T012544Z
URL:https://greaterkansascitychamberofcommerce.growthzoneapp.com/eventcalendar/Details/access-to-cancer-care-conversation-series-1715589?sourceTypeId=Hub
END:VEVENT
END:VCALENDAR
